BEGIN:VCALENDAR
VERSION:2.0
PRODID:SchoolNow
CALSCALE:GREGORIAN
BEGIN:VEVENT
UID:81b2d7c6-8286-11f0-9c8a-0a58a9feac02
DTSTAMP:20260120T184120Z
SUMMARY:CDD Board Meeting -  Jan. 2026
LOCATION:18115 N US Highway 41\, Lutz\, FL\, 33549-4481
URL;VALUE=URI:https://www.cordobaestatescdd.com/calendar/8545544/cdd-board-
 meeting-jan-2026
DTSTART:20260120T220000Z
DTEND:20260120T230000Z
ATTACH;FILENAME=2026-01-20 Cordoba Ranch CDD Second Revised Final Agenda Pa
 ckage.pdf;FMTTYPE=application/pdf:https://campussuite-storage.s3.amazonaws
 .com/prod/1559217/42861740-21af-11ef-b5eb-0afffa64151d/3061862/989da05c-f6
 2f-11f0-ba11-0a58a9feac02/file/2026-01-20 Cordoba Ranch CDD Second Revised
  Final Agenda Package.pdf
END:VEVENT
END:VCALENDAR
