BEGIN:VCALENDAR
VERSION:2.0
PRODID:SchoolNow
CALSCALE:GREGORIAN
BEGIN:VEVENT
UID:932c7408-8286-11f0-8536-0a58a9feac02
DTSTAMP:20260310T162047Z
SUMMARY:CDD Board Meeting -  Mar. 2026
LOCATION:18115 N US Highway 41\, Lutz\, FL\, 33549-4481
URL;VALUE=URI:https://www.cordobaestatescdd.com/calendar/8545546/cdd-board-
 meeting-mar-2026
DTSTART:20260317T210000Z
DTEND:20260317T220000Z
ATTACH;FILENAME=2026-03-17 Cordaba Ranch CDD Final Agenda Package.pdf;FMTTY
 PE=application/pdf:https://campussuite-storage.s3.amazonaws.com/prod/15592
 17/42861740-21af-11ef-b5eb-0afffa64151d/3078272/158229b0-1c9d-11f1-b9a4-0a
 58a9feac02/file/2026-03-17 Cordaba Ranch CDD Final Agenda Package.pdf
END:VEVENT
END:VCALENDAR
