BEGIN:VCALENDAR
VERSION:2.0
PRODID:SchoolNow
CALSCALE:GREGORIAN
BEGIN:VEVENT
UID:9c10ab3e-8286-11f0-922e-0affc8c049ad
DTSTAMP:20260413T192144Z
SUMMARY:CDD Board Meeting -  Apr. 2026
LOCATION:18115 N US Highway 41\, Lutz\, FL\, 33549-4481
URL;VALUE=URI:https://www.cordobaestatescdd.com/calendar/8545547/cdd-board-
 meeting-apr-2026
DTSTART:20260420T210000Z
DTEND:20260420T220000Z
ATTACH;FILENAME=2026-04-20 Cordoba Ranch CDD Final Agenda Package.pdf;FMTTY
 PE=application/pdf:https://campussuite-storage.s3.amazonaws.com/prod/15592
 17/42861740-21af-11ef-b5eb-0afffa64151d/3088871/ff5e4a56-376d-11f1-be12-0a
 58a9feac02/file/2026-04-20 Cordoba Ranch CDD Final Agenda Package.pdf
END:VEVENT
END:VCALENDAR
