BEGIN:VCALENDAR
VERSION:2.0
PRODID:SchoolNow
CALSCALE:GREGORIAN
BEGIN:VEVENT
UID:b774cc98-8286-11f0-a2d6-0a58a9feac02
DTSTAMP:20260219T155322Z
SUMMARY:CDD Board Meeting -  Jul. 2026
LOCATION:18115 N US Highway 41\, Lutz\, FL\, 33549-4481
URL;VALUE=URI:https://www.cordobaestatescdd.com/calendar/8545550/cdd-board-
 meeting-jul-2026
DTSTART:20260720T210000Z
DTEND:20260720T220000Z
END:VEVENT
END:VCALENDAR
